BEGIN:VCALENDAR
VERSION:2.0
PRODID:-//HR Norge - arrangement//hrnorge.no//NO
CALSCALE:GREGORIAN
BEGIN:VEVENT
STATUS:CONFIRMED
UID:116269e7313d76565@hrnorge.no
DTSTAMP:20260421T101141
DTSTART:20260923T090000
DTEND:20260923T160000
SUMMARY:HR Norge: Arbeidsrettskonferansen 2026
DESCRIPTION:
X-ALT-DESC;FMTTYPE=text/html:
URL;VALUE=URI:https://www.hrnorge.no/arrangement/arbeidsrettskonferansen-2026
LOCATION:
ORGANIZER;CN=HR Norge:mailto:hrnorge@hrnorge.no
BEGIN:VALARM
TRIGGER:-PT15M
ACTION:DISPLAY
END:VALARM
TRANSP:OPAQUE
END:VEVENT
END:VCALENDAR